BEGIN:VCALENDAR
VERSION:2.0
PRODID:-//ChamberMaster//Event Calendar 2.0//EN
METHOD:PUBLISH
X-PUBLISHED-TTL:P3D
REFRESH-INTERVAL:P3D
CALSCALE:GREGORIAN
BEGIN:VEVENT
DTSTART:20111121T140000Z
DTEND:20111121T143000Z
X-MICROSOFT-CDO-ALLDAYEVENT:FALSE
SUMMARY:Ribbon Cutting - Auburn Dental
DESCRIPTION:Ribbon Cutting - Auburn Dental Center
X-ALT-DESC;FMTTYPE=text/html:Ribbon Cutting - Auburn Dental Center
LOCATION:1310 Atlanta Hwy Auburn\, GA
UID:e.363.4112
SEQUENCE:3
DTSTAMP:20260424T025034Z
URL:https://barrowcm.365dtm.com/events/details/ribbon-cutting-auburn-dental-11-21-2011-4112
END:VEVENT

END:VCALENDAR
