BEGIN:VCALENDAR
VERSION:2.0
PRODID:-//ChamberMaster//Event Calendar 2.0//EN
METHOD:PUBLISH
X-PUBLISHED-TTL:P3D
REFRESH-INTERVAL:P3D
CALSCALE:GREGORIAN
BEGIN:VEVENT
DTSTART:20120921T153000Z
DTEND:20120921T160000Z
X-MICROSOFT-CDO-ALLDAYEVENT:FALSE
SUMMARY:Ribbon Cutting - Bentley's Butcher Shop
DESCRIPTION:Ribbon Cutting - Bentley's Butcher Shop
X-ALT-DESC;FMTTYPE=text/html:Ribbon Cutting - Bentley&#39\;s Butcher Shop
LOCATION:105 East May Street\, Suite 300 Winder\, Ga
UID:e.363.4563
SEQUENCE:3
DTSTAMP:20260423T115814Z
URL:https://barrowcm.365dtm.com/events/details/ribbon-cutting-bentley-s-butcher-shop-09-21-2012-4563
END:VEVENT

END:VCALENDAR
