BEGIN:VCALENDAR
VERSION:2.0
PRODID:-//ChamberMaster//Event Calendar 2.0//EN
METHOD:PUBLISH
X-PUBLISHED-TTL:P3D
REFRESH-INTERVAL:P3D
CALSCALE:GREGORIAN
BEGIN:VEVENT
DTSTART:20120105T163000Z
DTEND:20120105T170000Z
X-MICROSOFT-CDO-ALLDAYEVENT:FALSE
SUMMARY:Ribbon Cutting -Bethlehem First Methodist Church
DESCRIPTION:Ribbon Cutting - First United Methodist Church
X-ALT-DESC;FMTTYPE=text/html:Ribbon Cutting - First United Methodist Church<br />\n
LOCATION:709 Christmas Ave Bethlehem\, Ga
UID:e.363.4126
SEQUENCE:3
DTSTAMP:20260423T235312Z
URL:https://barrowcm.365dtm.com/events/details/ribbon-cutting-bethlehem-first-methodist-church-01-05-2012-4126
END:VEVENT

END:VCALENDAR
