BEGIN:VCALENDAR
VERSION:2.0
PRODID:-//ChamberMaster//Event Calendar 2.0//EN
METHOD:PUBLISH
X-PUBLISHED-TTL:P3D
REFRESH-INTERVAL:P3D
CALSCALE:GREGORIAN
BEGIN:VEVENT
DTSTART:20110809T203000Z
DTEND:20110809T210000Z
X-MICROSOFT-CDO-ALLDAYEVENT:FALSE
SUMMARY:Ribbon Cutting - Bethlehem Primary Care
DESCRIPTION:Bethlehem Primary Care
X-ALT-DESC;FMTTYPE=text/html:Bethlehem Primary Care
LOCATION:Barrow Crossing Shopping Center 916 Loganville Hwy\, Suite 350
UID:e.363.4046
SEQUENCE:3
DTSTAMP:20260424T064810Z
URL:https://barrowcm.365dtm.com/events/details/ribbon-cutting-bethlehem-primary-care-08-09-2011-4046
END:VEVENT

END:VCALENDAR
