BEGIN:VCALENDAR
VERSION:2.0
PRODID:-//ChamberMaster//Event Calendar 2.0//EN
METHOD:PUBLISH
X-PUBLISHED-TTL:P3D
REFRESH-INTERVAL:P3D
CALSCALE:GREGORIAN
BEGIN:VEVENT
DTSTART:20110113T150000Z
DTEND:20110113T153000Z
X-MICROSOFT-CDO-ALLDAYEVENT:FALSE
SUMMARY:Ribbon Cutting - Big Al's BBQ Pit
DESCRIPTION:Ribbon Cutting - Big Al's BBQ Pit
X-ALT-DESC;FMTTYPE=text/html:Ribbon Cutting - Big Al&#39\;s BBQ Pit
LOCATION:1916 Railroad Street Statham\, Ga
UID:e.363.3663
SEQUENCE:3
DTSTAMP:20260424T165221Z
URL:https://barrowcm.365dtm.com/events/details/ribbon-cutting-big-al-s-bbq-pit-01-13-2011-3663
END:VEVENT

END:VCALENDAR
