BEGIN:VCALENDAR
VERSION:2.0
PRODID:-//ChamberMaster//Event Calendar 2.0//EN
METHOD:PUBLISH
X-PUBLISHED-TTL:P3D
REFRESH-INTERVAL:P3D
CALSCALE:GREGORIAN
BEGIN:VEVENT
DTSTART:20111025T154500Z
DTEND:20111025T161500Z
X-MICROSOFT-CDO-ALLDAYEVENT:FALSE
SUMMARY:Ribbon Cutting - Body Transformer Fitness
DESCRIPTION:Ribbon Cutting\n\n	Body Transformer Fitness
X-ALT-DESC;FMTTYPE=text/html:<p>\n	Ribbon Cutting</p>\n<p>\n	Body Transformer Fitness</p>\n
LOCATION:Snoden Village 133 W. Athens Street\, unit B & C Winder
UID:e.363.4087
SEQUENCE:3
DTSTAMP:20260424T040700Z
URL:https://barrowcm.365dtm.com/events/details/ribbon-cutting-body-transformer-fitness-10-25-2011-4087
END:VEVENT

END:VCALENDAR
