BEGIN:VCALENDAR
VERSION:2.0
PRODID:-//ChamberMaster//Event Calendar 2.0//EN
METHOD:PUBLISH
X-PUBLISHED-TTL:P3D
REFRESH-INTERVAL:P3D
CALSCALE:GREGORIAN
BEGIN:VEVENT
DTSTART:20120604T203000Z
DTEND:20120604T220000Z
X-MICROSOFT-CDO-ALLDAYEVENT:FALSE
SUMMARY:Ribbon Cutting - Braselton Primary Care
DESCRIPTION:Ribbon Cutting - Braselton Primary Care
X-ALT-DESC;FMTTYPE=text/html:Ribbon Cutting -&nbsp\;Braselton Primary&nbsp\;Care
LOCATION:5769 Old Winder Hwy\, Braselton\, Ga.
UID:e.363.4273
SEQUENCE:3
DTSTAMP:20260423T162714Z
URL:https://barrowcm.365dtm.com/events/details/ribbon-cutting-braselton-primary-care-06-04-2012-4273
END:VEVENT

END:VCALENDAR
