BEGIN:VCALENDAR
VERSION:2.0
PRODID:-//ChamberMaster//Event Calendar 2.0//EN
METHOD:PUBLISH
X-PUBLISHED-TTL:P3D
REFRESH-INTERVAL:P3D
CALSCALE:GREGORIAN
BEGIN:VEVENT
DTSTART:20100121T163000Z
DTEND:20100121T170000Z
X-MICROSOFT-CDO-ALLDAYEVENT:FALSE
SUMMARY:Ribbon Cutting - Brown and Brown Pro Custom
DESCRIPTION:Ribbon Cutting
X-ALT-DESC;FMTTYPE=text/html:Ribbon Cutting
LOCATION:44 East Midland Ave. Winder\, Ga
UID:e.363.3185
SEQUENCE:3
DTSTAMP:20260425T104350Z
URL:https://barrowcm.365dtm.com/events/details/ribbon-cutting-brown-and-brown-pro-custom-01-21-2010-3185
END:VEVENT

END:VCALENDAR
