BEGIN:VCALENDAR
VERSION:2.0
PRODID:-//ChamberMaster//Event Calendar 2.0//EN
METHOD:PUBLISH
X-PUBLISHED-TTL:P3D
REFRESH-INTERVAL:P3D
CALSCALE:GREGORIAN
BEGIN:VEVENT
DTSTART:20130409T143000Z
DTEND:20130409T150000Z
X-MICROSOFT-CDO-ALLDAYEVENT:FALSE
SUMMARY:Ribbon Cutting - Burger King
DESCRIPTION:Burger King - Ribbon Cutting\n\n7 E. May street\, Winder
X-ALT-DESC;FMTTYPE=text/html:Burger King - Ribbon Cutting<br />\n7 E. May street\, Winder<br />\n
LOCATION:
UID:e.363.4861
SEQUENCE:3
DTSTAMP:20260423T010124Z
URL:https://barrowcm.365dtm.com/events/details/ribbon-cutting-burger-king-04-09-2013-4861
END:VEVENT

END:VCALENDAR
