BEGIN:VCALENDAR
VERSION:2.0
PRODID:-//ChamberMaster//Event Calendar 2.0//EN
METHOD:PUBLISH
X-PUBLISHED-TTL:P3D
REFRESH-INTERVAL:P3D
CALSCALE:GREGORIAN
BEGIN:VEVENT
DTSTART:20090604T150000Z
DTEND:20090604T160000Z
X-MICROSOFT-CDO-ALLDAYEVENT:FALSE
SUMMARY:Ribbon Cutting Camp Twin Lakes
DESCRIPTION:Camp Twin Lakes ribbon cuttinglocated in the old Will-A-Way Camp at Ft. Yargo
X-ALT-DESC;FMTTYPE=text/html:<div>Camp Twin Lakes ribbon cutting</div><div>located in the old Will-A-Way Camp at Ft. Yargo</div>
LOCATION:Camp Twin Lakes ribbon cuttinglocated in the old Will-A-Way Camp at Ft. Yargo State Park area A off of Hwy 81\, Winder
UID:e.363.2981
SEQUENCE:3
DTSTAMP:20260425T214129Z
URL:https://barrowcm.365dtm.com/events/details/ribbon-cutting-camp-twin-lakes-06-04-2009-2981
END:VEVENT

END:VCALENDAR
