BEGIN:VCALENDAR
VERSION:2.0
PRODID:-//ChamberMaster//Event Calendar 2.0//EN
METHOD:PUBLISH
X-PUBLISHED-TTL:P3D
REFRESH-INTERVAL:P3D
CALSCALE:GREGORIAN
BEGIN:VEVENT
DTSTART:20120113T210000Z
DTEND:20120113T213000Z
X-MICROSOFT-CDO-ALLDAYEVENT:FALSE
SUMMARY:Ribbon Cutting - Carmike Cinema
DESCRIPTION:Ribbon Cutting - New Carmike Cinema
X-ALT-DESC;FMTTYPE=text/html:Ribbon Cutting - New Carmike Cinema
LOCATION:
UID:e.363.4128
SEQUENCE:3
DTSTAMP:20260423T235446Z
URL:https://barrowcm.365dtm.com/events/details/ribbon-cutting-carmike-cinema-01-13-2012-4128
END:VEVENT

END:VCALENDAR
