BEGIN:VCALENDAR
VERSION:2.0
PRODID:-//ChamberMaster//Event Calendar 2.0//EN
METHOD:PUBLISH
X-PUBLISHED-TTL:P3D
REFRESH-INTERVAL:P3D
CALSCALE:GREGORIAN
BEGIN:VEVENT
DTSTART:20130924T160000Z
DTEND:20130924T170000Z
X-MICROSOFT-CDO-ALLDAYEVENT:FALSE
SUMMARY:Ribbon Cutting - Chimneys Golf Course
DESCRIPTION:
X-ALT-DESC;FMTTYPE=text/html:
LOCATION:338 Monroe Hwy Winder\, GA 30680
UID:e.363.5140
SEQUENCE:3
DTSTAMP:20260422T174555Z
URL:https://barrowcm.365dtm.com/events/details/ribbon-cutting-chimneys-golf-course-09-24-2013-5140
END:VEVENT

END:VCALENDAR
