BEGIN:VCALENDAR
VERSION:2.0
PRODID:-//ChamberMaster//Event Calendar 2.0//EN
METHOD:PUBLISH
X-PUBLISHED-TTL:P3D
REFRESH-INTERVAL:P3D
CALSCALE:GREGORIAN
BEGIN:VEVENT
DTSTART:20100622T140000Z
DTEND:20100622T150000Z
X-MICROSOFT-CDO-ALLDAYEVENT:FALSE
SUMMARY:Ribbon Cutting - Constance Manor
DESCRIPTION:Ribbon Cutting - Constance Manor\n\n70 Church Street\n\nWinder\, Ga
X-ALT-DESC;FMTTYPE=text/html:Ribbon Cutting - Constance Manor\n<br>70 Church Street\n<br>Winder\, Ga
LOCATION:
UID:e.363.3549
SEQUENCE:3
DTSTAMP:20260425T033031Z
URL:https://barrowcm.365dtm.com/events/details/ribbon-cutting-constance-manor-06-22-2010-3549
END:VEVENT

END:VCALENDAR
