BEGIN:VCALENDAR
VERSION:2.0
PRODID:-//ChamberMaster//Event Calendar 2.0//EN
METHOD:PUBLISH
X-PUBLISHED-TTL:P3D
REFRESH-INTERVAL:P3D
CALSCALE:GREGORIAN
BEGIN:VEVENT
DTSTART:20090910T210000Z
DTEND:20090910T220000Z
X-MICROSOFT-CDO-ALLDAYEVENT:FALSE
SUMMARY:Ribbon Cutting - Country Inn & Suites
DESCRIPTION:Ribbon Cutting - Country Inn & Suites
X-ALT-DESC;FMTTYPE=text/html:Ribbon Cutting - Country Inn & Suites
LOCATION:925 Highway 124\, Braselton\, Ga
UID:e.363.3045
SEQUENCE:3
DTSTAMP:20260425T173608Z
URL:https://barrowcm.365dtm.com/events/details/ribbon-cutting-country-inn-suites-09-10-2009-3045
END:VEVENT

END:VCALENDAR
