BEGIN:VCALENDAR
VERSION:2.0
PRODID:-//ChamberMaster//Event Calendar 2.0//EN
METHOD:PUBLISH
X-PUBLISHED-TTL:P3D
REFRESH-INTERVAL:P3D
CALSCALE:GREGORIAN
BEGIN:VEVENT
DTSTART:20110203T150000Z
DTEND:20110204T033000Z
X-MICROSOFT-CDO-ALLDAYEVENT:FALSE
SUMMARY:Ribbon Cutting - Dollar Store
DESCRIPTION:Dollar Store - Ribbon Cutting
X-ALT-DESC;FMTTYPE=text/html:Dollar Store - Ribbon Cutting
LOCATION:39 E. May Street\, Suite A Winder\, Ga 30680
UID:e.363.3664
SEQUENCE:3
DTSTAMP:20260424T152123Z
URL:https://barrowcm.365dtm.com/events/details/ribbon-cutting-dollar-store-02-03-2011-3664
END:VEVENT

END:VCALENDAR
