BEGIN:VCALENDAR
VERSION:2.0
PRODID:-//ChamberMaster//Event Calendar 2.0//EN
METHOD:PUBLISH
X-PUBLISHED-TTL:P3D
REFRESH-INTERVAL:P3D
CALSCALE:GREGORIAN
BEGIN:VEVENT
DTSTART;VALUE=DATE:20110421
DTEND;VALUE=DATE:20110422
TRANSP:TRANSPARENT
X-MICROSOFT-CDO-ALLDAYEVENT:TRUE
SUMMARY:Ribbon Cutting - Dooley's Southern Stone Pizza Kitchen
DESCRIPTION:Ribbon Cutting - Dooley's Southern Stone Pizza Kitchen
X-ALT-DESC;FMTTYPE=text/html:Ribbon Cutting - Dooley&#39\;s Southern Stone Pizza Kitchen<br />\n
LOCATION:137 E. May Street\, Winder
UID:e.363.4023
SEQUENCE:3
DTSTAMP:20260424T121713Z
URL:https://barrowcm.365dtm.com/events/details/ribbon-cutting-dooley-s-southern-stone-pizza-kitchen-04-21-2011-4023
END:VEVENT

END:VCALENDAR
