BEGIN:VCALENDAR
VERSION:2.0
PRODID:-//ChamberMaster//Event Calendar 2.0//EN
METHOD:PUBLISH
X-PUBLISHED-TTL:P3D
REFRESH-INTERVAL:P3D
CALSCALE:GREGORIAN
BEGIN:VEVENT
DTSTART:20100830T153000Z
DTEND:20100830T163000Z
X-MICROSOFT-CDO-ALLDAYEVENT:FALSE
SUMMARY:Ribbon Cutting - Dr. Manan Shah\, MD PC
DESCRIPTION:Ribbon Cutting - Dr. Manan Shah MD PC
X-ALT-DESC;FMTTYPE=text/html:<div>Ribbon Cutting - Dr. Manan Shah MD PC</div><div>&nbsp\;</div>
LOCATION:361 Resource ParkwayWinder\, Ga
UID:e.363.3578
SEQUENCE:3
DTSTAMP:20260425T001441Z
URL:https://barrowcm.365dtm.com/events/details/ribbon-cutting-dr-manan-shah-md-pc-08-30-2010-3578
END:VEVENT

END:VCALENDAR
