BEGIN:VCALENDAR
VERSION:2.0
PRODID:-//ChamberMaster//Event Calendar 2.0//EN
METHOD:PUBLISH
X-PUBLISHED-TTL:P3D
REFRESH-INTERVAL:P3D
CALSCALE:GREGORIAN
BEGIN:VEVENT
DTSTART:20100814T150000Z
DTEND:20100814T180000Z
X-MICROSOFT-CDO-ALLDAYEVENT:FALSE
SUMMARY:Ribbon Cutting - Fidelity Bank
DESCRIPTION:Ribbon Cutting - Fidelity Bank
X-ALT-DESC;FMTTYPE=text/html:<div>Ribbon Cutting - Fidelity Bank</div>
LOCATION:20 W. May Street
UID:e.363.3556
SEQUENCE:3
DTSTAMP:20260425T001654Z
URL:https://barrowcm.365dtm.com/events/details/ribbon-cutting-fidelity-bank-08-14-2010-3556
END:VEVENT

END:VCALENDAR
