BEGIN:VCALENDAR
VERSION:2.0
PRODID:-//ChamberMaster//Event Calendar 2.0//EN
METHOD:PUBLISH
X-PUBLISHED-TTL:P3D
REFRESH-INTERVAL:P3D
CALSCALE:GREGORIAN
BEGIN:VEVENT
DTSTART:20151130T210000Z
DTEND:20151130T220000Z
X-MICROSOFT-CDO-ALLDAYEVENT:FALSE
SUMMARY:Ribbon Cutting - Foothills Charter School
DESCRIPTION:Ribbon Cutting Foothills Charter School
X-ALT-DESC;FMTTYPE=text/html:Ribbon Cutting Foothills Charter School
LOCATION:54 W.Star Street Bethlehem\, Ga
UID:e.363.5838
SEQUENCE:3
DTSTAMP:20260420T215314Z
URL:https://barrowcm.365dtm.com/events/details/ribbon-cutting-foothills-charter-school-11-30-2015-5838
END:VEVENT

END:VCALENDAR
