BEGIN:VCALENDAR
VERSION:2.0
PRODID:-//ChamberMaster//Event Calendar 2.0//EN
METHOD:PUBLISH
X-PUBLISHED-TTL:P3D
REFRESH-INTERVAL:P3D
CALSCALE:GREGORIAN
BEGIN:VEVENT
DTSTART;VALUE=DATE:20151204
DTEND;VALUE=DATE:20151205
TRANSP:TRANSPARENT
X-MICROSOFT-CDO-ALLDAYEVENT:TRUE
SUMMARY:RIbbon Cutting - Forge RX Crossfit Winder
DESCRIPTION:Ribbon Cutting - Forge - Rx Cross Fit Winder
X-ALT-DESC;FMTTYPE=text/html:Ribbon Cutting - Forge - Rx Cross Fit Winder<br />\n&nbsp\;
LOCATION:429 Loganville Hwy\, Suite 110-116\, WInder
UID:e.363.5841
SEQUENCE:3
DTSTAMP:20260420T203553Z
URL:https://barrowcm.365dtm.com/events/details/ribbon-cutting-forge-rx-crossfit-winder-12-04-2015-5841
END:VEVENT

END:VCALENDAR
