BEGIN:VCALENDAR
VERSION:2.0
PRODID:-//ChamberMaster//Event Calendar 2.0//EN
METHOD:PUBLISH
X-PUBLISHED-TTL:P3D
REFRESH-INTERVAL:P3D
CALSCALE:GREGORIAN
BEGIN:VEVENT
DTSTART:20101006T200000Z
DTEND:20101006T210000Z
X-MICROSOFT-CDO-ALLDAYEVENT:FALSE
SUMMARY:Ribbon Cutting - G & G Family Entertainment and Galaxy Golf & Games
DESCRIPTION:Ribbon Cutting\n\n	G & G Family Entertainment and Galaxy Folf & Games
X-ALT-DESC;FMTTYPE=text/html:<p>\n	Ribbon Cutting</p>\n<p>\n	G &amp\; G Family Entertainment and Galaxy Folf &amp\; Games<br />\n	&nbsp\;</p>\n
LOCATION:Goodwill Shopping Center 39 East May Street\, Winder
UID:e.363.3592
SEQUENCE:3
DTSTAMP:20260424T213727Z
URL:https://barrowcm.365dtm.com/events/details/ribbon-cutting-g-g-family-entertainment-and-galaxy-golf-games-10-06-2010-3592
END:VEVENT

END:VCALENDAR
