BEGIN:VCALENDAR
VERSION:2.0
PRODID:-//ChamberMaster//Event Calendar 2.0//EN
METHOD:PUBLISH
X-PUBLISHED-TTL:P3D
REFRESH-INTERVAL:P3D
CALSCALE:GREGORIAN
BEGIN:VEVENT
DTSTART:20130917T153000Z
DTEND:20130917T160000Z
X-MICROSOFT-CDO-ALLDAYEVENT:FALSE
SUMMARY:Ribbon Cutting - G & K Cleaning Service
DESCRIPTION:Ribbon Cutting G & K Cleaning Service
X-ALT-DESC;FMTTYPE=text/html:Ribbon Cutting G &amp\; K Cleaning Service
LOCATION:Chamber Office #6 Porter Street\, Winder
UID:e.363.5137
SEQUENCE:3
DTSTAMP:20260422T174810Z
URL:https://barrowcm.365dtm.com/events/details/ribbon-cutting-g-k-cleaning-service-09-17-2013-5137
END:VEVENT

END:VCALENDAR
