BEGIN:VCALENDAR
VERSION:2.0
PRODID:-//ChamberMaster//Event Calendar 2.0//EN
METHOD:PUBLISH
X-PUBLISHED-TTL:P3D
REFRESH-INTERVAL:P3D
CALSCALE:GREGORIAN
BEGIN:VEVENT
DTSTART:20110311T173000Z
DTEND:20110311T180000Z
X-MICROSOFT-CDO-ALLDAYEVENT:FALSE
SUMMARY:Ribbon Cutting - Garmon Land Surveying & Big Al's BBQ
DESCRIPTION:Ribbon Cutting\n\n	Garmon Lan Surveying\, LLC & Big Al's BBQ
X-ALT-DESC;FMTTYPE=text/html:<p>\n	Ribbon Cutting</p>\n<p>\n	Garmon Lan Surveying\, LLC &amp\; Big Al&#39\;s BBQ</p>\n
LOCATION:1920 Railroad St Statham\, Ga 30666
UID:e.363.3685
SEQUENCE:3
DTSTAMP:20260424T134905Z
URL:https://barrowcm.365dtm.com/events/details/ribbon-cutting-garmon-land-surveying-big-al-s-bbq-03-11-2011-3685
END:VEVENT

END:VCALENDAR
