BEGIN:VCALENDAR
VERSION:2.0
PRODID:-//ChamberMaster//Event Calendar 2.0//EN
METHOD:PUBLISH
X-PUBLISHED-TTL:P3D
REFRESH-INTERVAL:P3D
CALSCALE:GREGORIAN
BEGIN:VEVENT
DTSTART:20160504T163000Z
DTEND:20160504T170000Z
X-MICROSOFT-CDO-ALLDAYEVENT:FALSE
SUMMARY:Ribbon Cutting Gateway Family Medicine
DESCRIPTION:Ribbon Cutting\n\nGateway Family Medicine
X-ALT-DESC;FMTTYPE=text/html:Ribbon Cutting<br />\nGateway Family Medicine
LOCATION:340 Exchange Boulevard Bethlehem\, Ga. 30620
UID:e.363.5871
SEQUENCE:3
DTSTAMP:20260420T125434Z
URL:https://barrowcm.365dtm.com/events/details/ribbon-cutting-gateway-family-medicine-05-04-2016-5871
END:VEVENT

END:VCALENDAR
