BEGIN:VCALENDAR
VERSION:2.0
PRODID:-//ChamberMaster//Event Calendar 2.0//EN
METHOD:PUBLISH
X-PUBLISHED-TTL:P3D
REFRESH-INTERVAL:P3D
CALSCALE:GREGORIAN
BEGIN:VEVENT
DTSTART:20110304T053000Z
DTEND:20110304T180000Z
X-MICROSOFT-CDO-ALLDAYEVENT:FALSE
SUMMARY:Ribbon Cutting - Georgia Sod & Turf Grass\, LLC
DESCRIPTION:Ribbon Cutting - Georgia Sod & Turf Grass LLC
X-ALT-DESC;FMTTYPE=text/html:Ribbon Cutting - Georgia Sod &amp\; Turf Grass LLC
LOCATION:605 Patrick Industrial Dr. WInder\, GA
UID:e.363.3696
SEQUENCE:3
DTSTAMP:20260424T134731Z
URL:https://barrowcm.365dtm.com/events/details/ribbon-cutting-georgia-sod-turf-grass-llc-03-04-2011-3696
END:VEVENT

END:VCALENDAR
