BEGIN:VCALENDAR
VERSION:2.0
PRODID:-//ChamberMaster//Event Calendar 2.0//EN
METHOD:PUBLISH
X-PUBLISHED-TTL:P3D
REFRESH-INTERVAL:P3D
CALSCALE:GREGORIAN
BEGIN:VEVENT
DTSTART:20110128T050000Z
DTEND:20110128T173000Z
X-MICROSOFT-CDO-ALLDAYEVENT:FALSE
SUMMARY:Ribbon Cutting - Georgia Specific Clinic ofChiropractic
DESCRIPTION:Ribbon Cutting\n\n	Georgia Specific Clinic of Chiropractic
X-ALT-DESC;FMTTYPE=text/html:<p>\n	Ribbon Cutting</p>\n<p>\n	Georgia Specific Clinic of Chiropractic</p>
LOCATION:49 Piedmont Dr.\, WInder
UID:e.363.3654
SEQUENCE:3
DTSTAMP:20260424T165515Z
URL:https://barrowcm.365dtm.com/events/details/ribbon-cutting-georgia-specific-clinic-ofchiropractic-01-28-2011-3654
END:VEVENT

END:VCALENDAR
