BEGIN:VCALENDAR
VERSION:2.0
PRODID:-//ChamberMaster//Event Calendar 2.0//EN
METHOD:PUBLISH
X-PUBLISHED-TTL:P3D
REFRESH-INTERVAL:P3D
CALSCALE:GREGORIAN
BEGIN:VEVENT
DTSTART:20160510T153000Z
DTEND:20160510T160000Z
X-MICROSOFT-CDO-ALLDAYEVENT:FALSE
SUMMARY:Ribbon Cutting - Goofball Graphics
DESCRIPTION:Ribbon Cutting\n\nGoofball Graphics
X-ALT-DESC;FMTTYPE=text/html:Ribbon Cutting<br />\nGoofball Graphics
LOCATION:79 North Broad Street Winder\, Ga.
UID:e.363.5877
SEQUENCE:3
DTSTAMP:20260420T124923Z
URL:https://barrowcm.365dtm.com/events/details/ribbon-cutting-goofball-graphics-05-10-2016-5877
END:VEVENT

END:VCALENDAR
