BEGIN:VCALENDAR
VERSION:2.0
PRODID:-//ChamberMaster//Event Calendar 2.0//EN
METHOD:PUBLISH
X-PUBLISHED-TTL:P3D
REFRESH-INTERVAL:P3D
CALSCALE:GREGORIAN
BEGIN:VEVENT
DTSTART:20111014T143000Z
DTEND:20111014T150000Z
X-MICROSOFT-CDO-ALLDAYEVENT:FALSE
SUMMARY:RIbbon Cutting - Head Games Salon
DESCRIPTION:Ribbon Cutting - Head Games Salon\n\n13 North Broad STreet\, Winder\n\n\n\nacross from Chamber office
X-ALT-DESC;FMTTYPE=text/html:Ribbon Cutting - Head Games Salon<br />\n13 North Broad STreet\, Winder<br />\n<br />\nacross from Chamber office
LOCATION:
UID:e.363.4097
SEQUENCE:3
DTSTAMP:20260424T040301Z
URL:https://barrowcm.365dtm.com/events/details/ribbon-cutting-head-games-salon-10-14-2011-4097
END:VEVENT

END:VCALENDAR
