BEGIN:VCALENDAR
VERSION:2.0
PRODID:-//ChamberMaster//Event Calendar 2.0//EN
METHOD:PUBLISH
X-PUBLISHED-TTL:P3D
REFRESH-INTERVAL:P3D
CALSCALE:GREGORIAN
BEGIN:VEVENT
DTSTART:20090922T153000Z
DTEND:20090922T163000Z
X-MICROSOFT-CDO-ALLDAYEVENT:FALSE
SUMMARY:Ribbon Cutting - HMP Diagnostics
DESCRIPTION:Ribbon Cutting - HMP Diagnostics
X-ALT-DESC;FMTTYPE=text/html:Ribbon Cutting - HMP Diagnostics
LOCATION:Barrow Regional Medical Center\, 316 N. Broad St. Winder
UID:e.363.3046
SEQUENCE:3
DTSTAMP:20260425T172949Z
URL:https://barrowcm.365dtm.com/events/details/ribbon-cutting-hmp-diagnostics-09-22-2009-3046
END:VEVENT

END:VCALENDAR
