BEGIN:VCALENDAR
VERSION:2.0
PRODID:-//ChamberMaster//Event Calendar 2.0//EN
METHOD:PUBLISH
X-PUBLISHED-TTL:P3D
REFRESH-INTERVAL:P3D
CALSCALE:GREGORIAN
BEGIN:VEVENT
DTSTART:20150715T163000Z
DTEND:20150715T170000Z
X-MICROSOFT-CDO-ALLDAYEVENT:FALSE
SUMMARY:Ribbon Cutting - Hoschton Animal Hospital
DESCRIPTION:Hoschton Animal Hospital\n\nIn the Publix Shopping Center
X-ALT-DESC;FMTTYPE=text/html:Hoschton Animal Hospital<br />\nIn the Publix Shopping Center
LOCATION:2095 Hwy 211\, in Publix shopping Center
UID:e.363.5790
SEQUENCE:3
DTSTAMP:20260421T043837Z
URL:https://barrowcm.365dtm.com/events/details/ribbon-cutting-hoschton-animal-hospital-07-15-2015-5790
END:VEVENT

END:VCALENDAR
