BEGIN:VCALENDAR
VERSION:2.0
PRODID:-//ChamberMaster//Event Calendar 2.0//EN
METHOD:PUBLISH
X-PUBLISHED-TTL:P3D
REFRESH-INTERVAL:P3D
CALSCALE:GREGORIAN
BEGIN:VEVENT
DTSTART:20100929T163000Z
DTEND:20100929T173000Z
X-MICROSOFT-CDO-ALLDAYEVENT:FALSE
SUMMARY:Ribbon Cutting - InkHead
DESCRIPTION:Ribbon Cutting - InkHead
X-ALT-DESC;FMTTYPE=text/html:<div>Ribbon Cutting - InkHead</div>
LOCATION:138 Park Ave.\, Suite 300\, Winder
UID:e.363.3566
SEQUENCE:3
DTSTAMP:20260424T224044Z
URL:https://barrowcm.365dtm.com/events/details/ribbon-cutting-inkhead-09-29-2010-3566
END:VEVENT

END:VCALENDAR
