BEGIN:VCALENDAR
VERSION:2.0
PRODID:-//ChamberMaster//Event Calendar 2.0//EN
METHOD:PUBLISH
X-PUBLISHED-TTL:P3D
REFRESH-INTERVAL:P3D
CALSCALE:GREGORIAN
BEGIN:VEVENT
DTSTART:20140916T150000Z
DTEND:20140916T153000Z
X-MICROSOFT-CDO-ALLDAYEVENT:FALSE
SUMMARY:Ribbon Cutting - INSPIRE School of the Arts
DESCRIPTION:Ribbon Cutting INSPIRE School for the Arts
X-ALT-DESC;FMTTYPE=text/html:Ribbon Cutting INSPIRE School for the Arts
LOCATION:600 Exchange Circle\, Bethlehem\, Ga
UID:e.363.5455
SEQUENCE:3
DTSTAMP:20260421T202949Z
URL:https://barrowcm.365dtm.com/events/details/ribbon-cutting-inspire-school-of-the-arts-09-16-2014-5455
END:VEVENT

END:VCALENDAR
