BEGIN:VCALENDAR
VERSION:2.0
PRODID:-//ChamberMaster//Event Calendar 2.0//EN
METHOD:PUBLISH
X-PUBLISHED-TTL:P3D
REFRESH-INTERVAL:P3D
CALSCALE:GREGORIAN
BEGIN:VEVENT
DTSTART:20120809T193000Z
DTEND:20120809T203000Z
X-MICROSOFT-CDO-ALLDAYEVENT:FALSE
SUMMARY:Ribbon Cutting - Jackson's Steakhouse
DESCRIPTION:Jackson's Steakhouse Ribbon Cutting
X-ALT-DESC;FMTTYPE=text/html:Jackson&#39\;s Steakhouse Ribbon Cutting
LOCATION:82 North Public Square
UID:e.363.4532
SEQUENCE:3
DTSTAMP:20260423T132616Z
URL:https://barrowcm.365dtm.com/events/details/ribbon-cutting-jackson-s-steakhouse-08-09-2012-4532
END:VEVENT

END:VCALENDAR
