BEGIN:VCALENDAR
VERSION:2.0
PRODID:-//ChamberMaster//Event Calendar 2.0//EN
METHOD:PUBLISH
X-PUBLISHED-TTL:P3D
REFRESH-INTERVAL:P3D
CALSCALE:GREGORIAN
BEGIN:VEVENT
DTSTART:20140826T180000Z
DTEND:20140826T183000Z
X-MICROSOFT-CDO-ALLDAYEVENT:FALSE
SUMMARY:Ribbon Cutting - Jason Riner/State Farm
DESCRIPTION:Ribbon Cutting\n\nJason Riner ~ State Farm
X-ALT-DESC;FMTTYPE=text/html:Ribbon Cutting<br />\nJason Riner ~ State Farm
LOCATION:321 North Broad Street (across from Hospital Winder\, GA
UID:e.363.5450
SEQUENCE:3
DTSTAMP:20260421T213442Z
URL:https://barrowcm.365dtm.com/events/details/ribbon-cutting-jason-riner-state-farm-08-26-2014-5450
END:VEVENT

END:VCALENDAR
