BEGIN:VCALENDAR
VERSION:2.0
PRODID:-//ChamberMaster//Event Calendar 2.0//EN
METHOD:PUBLISH
X-PUBLISHED-TTL:P3D
REFRESH-INTERVAL:P3D
CALSCALE:GREGORIAN
BEGIN:VEVENT
DTSTART:20170731T150000Z
DTEND:20170731T160000Z
X-MICROSOFT-CDO-ALLDAYEVENT:FALSE
SUMMARY:Ribbon Cutting - Johnny's New York Style Pizza
DESCRIPTION:Ribbon Cutting - Johnny's New York Style Pizza
X-ALT-DESC;FMTTYPE=text/html:Ribbon Cutting - Johnny&#39\;s New York Style Pizza
LOCATION:916 Loganville Hwy Bethlehem\, Ga.
UID:e.363.6963
SEQUENCE:3
DTSTAMP:20260420T100901Z
URL:https://barrowcm.365dtm.com/events/details/ribbon-cutting-johnny-s-new-york-style-pizza-6963
END:VEVENT

END:VCALENDAR
