BEGIN:VCALENDAR
VERSION:2.0
PRODID:-//ChamberMaster//Event Calendar 2.0//EN
METHOD:PUBLISH
X-PUBLISHED-TTL:P3D
REFRESH-INTERVAL:P3D
CALSCALE:GREGORIAN
BEGIN:VEVENT
DTSTART:20100909T210000Z
DTEND:20100909T213000Z
X-MICROSOFT-CDO-ALLDAYEVENT:FALSE
SUMMARY:Ribbon cutting - Keller Williams Realty - Lanier Partners
DESCRIPTION:Ribbon CuttingKellar Williams Realty -Lanier Partnersmoved come see new location
X-ALT-DESC;FMTTYPE=text/html:<div>Ribbon Cutting</div><div>Kellar Williams Realty -Lanier Partners</div><div>moved come see new location</div>
LOCATION:3730 Village Way\, Suite 160 Braselton\, Ga 30517
UID:e.363.3587
SEQUENCE:3
DTSTAMP:20260424T224339Z
URL:https://barrowcm.365dtm.com/events/details/ribbon-cutting-keller-williams-realty-lanier-partners-09-09-2010-3587
END:VEVENT

END:VCALENDAR
