BEGIN:VCALENDAR
VERSION:2.0
PRODID:-//ChamberMaster//Event Calendar 2.0//EN
METHOD:PUBLISH
X-PUBLISHED-TTL:P3D
REFRESH-INTERVAL:P3D
CALSCALE:GREGORIAN
BEGIN:VEVENT
DTSTART:20120804T140000Z
DTEND:20120804T150000Z
X-MICROSOFT-CDO-ALLDAYEVENT:FALSE
SUMMARY:Ribbon Cutting - Kirklands
DESCRIPTION:Kirklands Ribbon Cutting
X-ALT-DESC;FMTTYPE=text/html:Kirklands Ribbon Cutting
LOCATION:Barrow Crossings\, next to TJ Maxx
UID:e.363.4530
SEQUENCE:3
DTSTAMP:20260423T132339Z
URL:https://barrowcm.365dtm.com/events/details/ribbon-cutting-kirklands-08-04-2012-4530
END:VEVENT

END:VCALENDAR
