BEGIN:VCALENDAR
VERSION:2.0
PRODID:-//ChamberMaster//Event Calendar 2.0//EN
METHOD:PUBLISH
X-PUBLISHED-TTL:P3D
REFRESH-INTERVAL:P3D
CALSCALE:GREGORIAN
BEGIN:VEVENT
DTSTART:20110727T153000Z
DTEND:20110727T160000Z
X-MICROSOFT-CDO-ALLDAYEVENT:FALSE
SUMMARY:Ribbon Cutting - KoK Recycling
DESCRIPTION:Ribbon Cutting - KoK Recycling
X-ALT-DESC;FMTTYPE=text/html:Ribbon Cutting - KoK Recycling<br />\n
LOCATION:220 E. Midland Ave.\, Winder
UID:e.363.4059
SEQUENCE:3
DTSTAMP:20260424T085103Z
URL:https://barrowcm.365dtm.com/events/details/ribbon-cutting-kok-recycling-07-27-2011-4059
END:VEVENT

END:VCALENDAR
