BEGIN:VCALENDAR
VERSION:2.0
PRODID:-//ChamberMaster//Event Calendar 2.0//EN
METHOD:PUBLISH
X-PUBLISHED-TTL:P3D
REFRESH-INTERVAL:P3D
CALSCALE:GREGORIAN
BEGIN:VEVENT
DTSTART:20150105T163000Z
DTEND:20150105T170000Z
X-MICROSOFT-CDO-ALLDAYEVENT:FALSE
SUMMARY:Ribbon Cutting - Liberty Tax Service
DESCRIPTION:Liberty Tax Service Ribbon Cutting
X-ALT-DESC;FMTTYPE=text/html:Liberty Tax Service Ribbon Cutting
LOCATION:64 E. May Street
UID:e.363.5480
SEQUENCE:3
DTSTAMP:20260421T135907Z
URL:https://barrowcm.365dtm.com/events/details/ribbon-cutting-liberty-tax-service-01-05-2015-5480
END:VEVENT

END:VCALENDAR
