BEGIN:VCALENDAR
VERSION:2.0
PRODID:-//ChamberMaster//Event Calendar 2.0//EN
METHOD:PUBLISH
X-PUBLISHED-TTL:P3D
REFRESH-INTERVAL:P3D
CALSCALE:GREGORIAN
BEGIN:VEVENT
DTSTART:20131023T153000Z
DTEND:20131023T160000Z
X-MICROSOFT-CDO-ALLDAYEVENT:FALSE
SUMMARY:Ribbon Cutting - Lifetime Counceling
DESCRIPTION:Ribbon Cutting - Lifetime Counceling
X-ALT-DESC;FMTTYPE=text/html:Ribbon Cutting - Lifetime Counceling
LOCATION:138 Park Ave. Winder\, Ga
UID:e.363.5151
SEQUENCE:3
DTSTAMP:20260422T161417Z
URL:https://barrowcm.365dtm.com/events/details/ribbon-cutting-lifetime-counceling-10-23-2013-5151
END:VEVENT

END:VCALENDAR
