BEGIN:VCALENDAR
VERSION:2.0
PRODID:-//ChamberMaster//Event Calendar 2.0//EN
METHOD:PUBLISH
X-PUBLISHED-TTL:P3D
REFRESH-INTERVAL:P3D
CALSCALE:GREGORIAN
BEGIN:VEVENT
DTSTART:20140120T160000Z
DTEND:20140120T170000Z
X-MICROSOFT-CDO-ALLDAYEVENT:FALSE
SUMMARY:Ribbon Cutting - Longhorn Steakhouse
DESCRIPTION:Ribbon Cutting for Longhorn Steakhouse
X-ALT-DESC;FMTTYPE=text/html:Ribbon Cutting for Longhorn Steakhouse
LOCATION:The Gateways - in front of the Theater
UID:e.363.5390
SEQUENCE:3
DTSTAMP:20260422T080257Z
URL:https://barrowcm.365dtm.com/events/details/ribbon-cutting-longhorn-steakhouse-01-20-2014-5390
END:VEVENT

END:VCALENDAR
