BEGIN:VCALENDAR
VERSION:2.0
PRODID:-//ChamberMaster//Event Calendar 2.0//EN
METHOD:PUBLISH
X-PUBLISHED-TTL:P3D
REFRESH-INTERVAL:P3D
CALSCALE:GREGORIAN
BEGIN:VEVENT
DTSTART:20121102T153000Z
DTEND:20121102T173000Z
X-MICROSOFT-CDO-ALLDAYEVENT:FALSE
SUMMARY:Ribbon Cutting - Magnificat Family Care
DESCRIPTION:Ribbon Cutting & Open House\n\nMagnificat Family Care
X-ALT-DESC;FMTTYPE=text/html:Ribbon Cutting &amp\; Open House<br />\nMagnificat Family Care<br />\n
LOCATION:137 W. Athens Street\, Suite 103 Winder\, Ga
UID:e.363.4782
SEQUENCE:3
DTSTAMP:20260423T085107Z
URL:https://barrowcm.365dtm.com/events/details/ribbon-cutting-magnificat-family-care-11-02-2012-4782
END:VEVENT

END:VCALENDAR
