BEGIN:VCALENDAR
VERSION:2.0
PRODID:-//ChamberMaster//Event Calendar 2.0//EN
METHOD:PUBLISH
X-PUBLISHED-TTL:P3D
REFRESH-INTERVAL:P3D
CALSCALE:GREGORIAN
BEGIN:VEVENT
DTSTART:20130426T153000Z
DTEND:20130426T160000Z
X-MICROSOFT-CDO-ALLDAYEVENT:FALSE
SUMMARY:Ribbon Cutting - Mattress Gallery USA LLC
DESCRIPTION:Mattress Gallery USA LLC\n\nRibbon Cutting\n\n\n\nGrand Opening -
X-ALT-DESC;FMTTYPE=text/html:Mattress Gallery USA LLC<br />\nRibbon Cutting<br />\n<br />\nGrand Opening -
LOCATION:656 Exchange Cir. Bethlehem\, Ga
UID:e.363.4886
SEQUENCE:3
DTSTAMP:20260423T011522Z
URL:https://barrowcm.365dtm.com/events/details/ribbon-cutting-mattress-gallery-usa-llc-04-26-2013-4886
END:VEVENT

END:VCALENDAR
