BEGIN:VCALENDAR
VERSION:2.0
PRODID:-//ChamberMaster//Event Calendar 2.0//EN
METHOD:PUBLISH
X-PUBLISHED-TTL:P3D
REFRESH-INTERVAL:P3D
CALSCALE:GREGORIAN
BEGIN:VEVENT
DTSTART:20150929T153000Z
DTEND:20150929T173000Z
X-MICROSOFT-CDO-ALLDAYEVENT:FALSE
SUMMARY:Ribbon Cutting - Medlink of Winder
DESCRIPTION:Ribbon Cutting @ Medlink
X-ALT-DESC;FMTTYPE=text/html:Ribbon Cutting @ Medlink
LOCATION:133 W. Athens Street\, Winder
UID:e.363.5816
SEQUENCE:3
DTSTAMP:20260421T011311Z
URL:https://barrowcm.365dtm.com/events/details/ribbon-cutting-medlink-of-winder-09-29-2015-5816
END:VEVENT

END:VCALENDAR
