BEGIN:VCALENDAR
VERSION:2.0
PRODID:-//ChamberMaster//Event Calendar 2.0//EN
METHOD:PUBLISH
X-PUBLISHED-TTL:P3D
REFRESH-INTERVAL:P3D
CALSCALE:GREGORIAN
BEGIN:VEVENT
DTSTART:20131202T160000Z
DTEND:20131202T170000Z
X-MICROSOFT-CDO-ALLDAYEVENT:FALSE
SUMMARY:Ribbon Cutting - Menchies
DESCRIPTION:Ribbon Cutting - Menchies Barrow Crossing
X-ALT-DESC;FMTTYPE=text/html:Ribbon Cutting - Menchies Barrow Crossing
LOCATION:Barrow Crossing -
UID:e.363.5169
SEQUENCE:3
DTSTAMP:20260422T094557Z
URL:https://barrowcm.365dtm.com/events/details/ribbon-cutting-menchies-12-02-2013-5169
END:VEVENT

END:VCALENDAR
