BEGIN:VCALENDAR
VERSION:2.0
PRODID:-//ChamberMaster//Event Calendar 2.0//EN
METHOD:PUBLISH
X-PUBLISHED-TTL:P3D
REFRESH-INTERVAL:P3D
CALSCALE:GREGORIAN
BEGIN:VEVENT
DTSTART:20111006T203000Z
DTEND:20111006T210000Z
X-MICROSOFT-CDO-ALLDAYEVENT:FALSE
SUMMARY:Ribbon Cutting - New York Life Denise Ringer
DESCRIPTION:Ribbon Cutting - New York Life
X-ALT-DESC;FMTTYPE=text/html:Ribbon Cutting - New York Life
LOCATION:363 Resource Park WInder\, GA
UID:e.363.4094
SEQUENCE:3
DTSTAMP:20260424T040441Z
URL:https://barrowcm.365dtm.com/events/details/ribbon-cutting-new-york-life-denise-ringer-10-06-2011-4094
END:VEVENT

END:VCALENDAR
