BEGIN:VCALENDAR
VERSION:2.0
PRODID:-//ChamberMaster//Event Calendar 2.0//EN
METHOD:PUBLISH
X-PUBLISHED-TTL:P3D
REFRESH-INTERVAL:P3D
CALSCALE:GREGORIAN
BEGIN:VEVENT
DTSTART:20121108T213000Z
DTEND:20121108T220000Z
X-MICROSOFT-CDO-ALLDAYEVENT:FALSE
SUMMARY:Ribbon Cutting - North Atlanta Center for Surgical Weight Loss
DESCRIPTION:Ribbon Cutting\n\nNorth Atlanta Center for Surgical Weight Loss
X-ALT-DESC;FMTTYPE=text/html:Ribbon Cutting<br />\nNorth Atlanta Center for Surgical Weight Loss
LOCATION:5767 Old Winder Hwy Braselton\, Ga 30517
UID:e.363.4783
SEQUENCE:3
DTSTAMP:20260423T085112Z
URL:https://barrowcm.365dtm.com/events/details/ribbon-cutting-north-atlanta-center-for-surgical-weight-loss-11-08-2012-4783
END:VEVENT

END:VCALENDAR
