BEGIN:VCALENDAR
VERSION:2.0
PRODID:-//ChamberMaster//Event Calendar 2.0//EN
METHOD:PUBLISH
X-PUBLISHED-TTL:P3D
REFRESH-INTERVAL:P3D
CALSCALE:GREGORIAN
BEGIN:VEVENT
DTSTART;VALUE=DATE:20150324
DTEND;VALUE=DATE:20150325
TRANSP:TRANSPARENT
X-MICROSOFT-CDO-ALLDAYEVENT:TRUE
SUMMARY:Ribbon Cutting - Northeast Ga Hospital
DESCRIPTION:Northeast Ga Hospital - Ribbon Cutting
X-ALT-DESC;FMTTYPE=text/html:Northeast Ga Hospital - Ribbon Cutting
LOCATION:1400 Riverplace- Braselton
UID:e.363.5762
SEQUENCE:3
DTSTAMP:20260421T110059Z
URL:https://barrowcm.365dtm.com/events/details/ribbon-cutting-northeast-ga-hospital-03-24-2015-5762
END:VEVENT

END:VCALENDAR
