BEGIN:VCALENDAR
VERSION:2.0
PRODID:-//ChamberMaster//Event Calendar 2.0//EN
METHOD:PUBLISH
X-PUBLISHED-TTL:P3D
REFRESH-INTERVAL:P3D
CALSCALE:GREGORIAN
BEGIN:VEVENT
DTSTART:20160204T160000Z
DTEND:20160204T190000Z
X-MICROSOFT-CDO-ALLDAYEVENT:FALSE
SUMMARY:Ribbon Cutting - O'Shucks
DESCRIPTION:Ribbon Cutting @ O'Shucks Grill
X-ALT-DESC;FMTTYPE=text/html:Ribbon Cutting @ O&#39\;Shucks Grill
LOCATION:
UID:e.363.5849
SEQUENCE:3
DTSTAMP:20260420T172844Z
URL:https://barrowcm.365dtm.com/events/details/ribbon-cutting-o-shucks-02-04-2016-5849
END:VEVENT

END:VCALENDAR
