BEGIN:VCALENDAR
VERSION:2.0
PRODID:-//ChamberMaster//Event Calendar 2.0//EN
METHOD:PUBLISH
X-PUBLISHED-TTL:P3D
REFRESH-INTERVAL:P3D
CALSCALE:GREGORIAN
BEGIN:VEVENT
DTSTART:20110819T160000Z
DTEND:20110819T163000Z
X-MICROSOFT-CDO-ALLDAYEVENT:FALSE
SUMMARY:Ribbon Cutting - P-Communications
DESCRIPTION:Ribbon Cutting - P Communications (Verizon Wireless Communications)
X-ALT-DESC;FMTTYPE=text/html:Ribbon Cutting - P Communications (Verizon Wireless Communications)<br />\n
LOCATION:64 E. May Street\, Suite A\, Winder
UID:e.363.4065
SEQUENCE:3
DTSTAMP:20260424T064651Z
URL:https://barrowcm.365dtm.com/events/details/ribbon-cutting-p-communications-08-19-2011-4065
END:VEVENT

END:VCALENDAR
